BEGIN:VCALENDAR
VERSION:2.0
PRODID:-//ValEquity Real Estate - ECPv6.15.20//NONSGML v1.0//EN
CALSCALE:GREGORIAN
METHOD:PUBLISH
X-ORIGINAL-URL:https://valequityrealestate.com
X-WR-CALDESC:Events for ValEquity Real Estate
REFRESH-INTERVAL;VALUE=DURATION:PT1H
X-Robots-Tag:noindex
X-PUBLISHED-TTL:PT1H
BEGIN:VTIMEZONE
TZID:America/Detroit
BEGIN:DAYLIGHT
TZOFFSETFROM:-0500
TZOFFSETTO:-0400
TZNAME:EDT
DTSTART:20210314T070000
END:DAYLIGHT
BEGIN:STANDARD
TZOFFSETFROM:-0400
TZOFFSETTO:-0500
TZNAME:EST
DTSTART:20211107T060000
END:STANDARD
BEGIN:DAYLIGHT
TZOFFSETFROM:-0500
TZOFFSETTO:-0400
TZNAME:EDT
DTSTART:20220313T070000
END:DAYLIGHT
BEGIN:STANDARD
TZOFFSETFROM:-0400
TZOFFSETTO:-0500
TZNAME:EST
DTSTART:20221106T060000
END:STANDARD
BEGIN:DAYLIGHT
TZOFFSETFROM:-0500
TZOFFSETTO:-0400
TZNAME:EDT
DTSTART:20230312T070000
END:DAYLIGHT
BEGIN:STANDARD
TZOFFSETFROM:-0400
TZOFFSETTO:-0500
TZNAME:EST
DTSTART:20231105T060000
END:STANDARD
BEGIN:DAYLIGHT
TZOFFSETFROM:-0500
TZOFFSETTO:-0400
TZNAME:EDT
DTSTART:20240310T070000
END:DAYLIGHT
BEGIN:STANDARD
TZOFFSETFROM:-0400
TZOFFSETTO:-0500
TZNAME:EST
DTSTART:20241103T060000
END:STANDARD
BEGIN:DAYLIGHT
TZOFFSETFROM:-0500
TZOFFSETTO:-0400
TZNAME:EDT
DTSTART:20250309T070000
END:DAYLIGHT
BEGIN:STANDARD
TZOFFSETFROM:-0400
TZOFFSETTO:-0500
TZNAME:EST
DTSTART:20251102T060000
END:STANDARD
END:VTIMEZONE
BEGIN:VEVENT
DTSTART;TZID=America/Detroit:20241019T100000
DTEND;TZID=America/Detroit:20241019T110000
DTSTAMP:20260424T135337
CREATED:20240916T173916Z
LAST-MODIFIED:20241017T154529Z
UID:11814-1729332000-1729335600@valequityrealestate.com
SUMMARY:Homebuyer Seminar - October 19\, 2024
DESCRIPTION:Join ValEquity Real Estate Realtors® Amber Abner and Jennifer Valentine at our office for a free Homebuyer Seminar on October 19 starting at 10am. Information will include the steps to homeownership\, how to obtain a mortgage\, available financing programs & more. Down payment assistance is available!  \n \nDetails:\nDate: Saturday\, October 19 at 10:00am\nLocation: ValEquity Real Estate | 5841 Emporium Square\, Columbus\, OH 43231 \n\n\n  \n\n\n\nYes\, I'd like to RSVP for the Home Buying Seminar on October 19:\n \n Name:\n \n \nEmail:\n\n \nPhone:\n\n \nNumber Attending (guests are welcome):\n12345\n \nPotential Homeownership Questions:\n\n \n\n Δ
URL:https://valequityrealestate.com/event/homebuyer-seminar-10-19-24/
LOCATION:ValEquity’s Office\, 5841 Emporium Square\, Columbus\, OH\, 43231\, United States
CATEGORIES:Home Buying Seminars
ATTACH;FMTTYPE=image/png:https://valequityrealestate.com/wp-content/uploads/2024/09/VERE-Homebuyer-Seminar-October-19.png
END:VEVENT
BEGIN:VEVENT
DTSTART;TZID=America/Detroit:20230813T190000
DTEND;TZID=America/Detroit:20230813T200000
DTSTAMP:20260424T135337
CREATED:20230721T142546Z
LAST-MODIFIED:20230721T144211Z
UID:11099-1691953200-1691956800@valequityrealestate.com
SUMMARY:Virtual Homebuyer Seminar - August 13\, 2023
DESCRIPTION:Join ValEquity Real Estate Realtor® Carla Hall and Jon Thompson from NFM Lending for a virtual Homebuyer Seminar on August 13 starting at 7pm. Information will include the steps to homeownership\, how to obtain a mortgage\, available financing programs & more. Down payment assistance is available!  \nMeeting Flyer: NFM Lending & ValEquity Real Estate flyer \nDetails:\nDate: Saturday\, August 13 at 7:00pm\nLocation:
URL:https://valequityrealestate.com/event/homebuyer-seminar-8-13-23/
LOCATION:OH
CATEGORIES:Home Buying Seminars
ATTACH;FMTTYPE=image/jpeg:https://valequityrealestate.com/wp-content/uploads/2020/08/FB-valequity-seminar-8-13.jpg
ORGANIZER;CN="Carla Hall":MAILTO:chall@valequity.com
END:VEVENT
BEGIN:VEVENT
DTSTART;TZID=America/Detroit:20220129T100000
DTEND;TZID=America/Detroit:20220129T110000
DTSTAMP:20260424T135337
CREATED:20211229T164452Z
LAST-MODIFIED:20220125T141814Z
UID:6277-1643450400-1643454000@valequityrealestate.com
SUMMARY:Home Buying Seminar - January 29\, 2022
DESCRIPTION:Join ValEquity Real Estate Realtors® Jennifer Valentine\, Kristin Bell \, Deana Rogers and Carla Hall as they host a home buying seminar at Olentangy River Brewing Company on Saturday\, January 29 starting at 10:00am. A lender (Jason Harris from the Harris Team at Guaranteed Rate) will also be on hand to help answer questions! \nBeverages (from Olentangy River Brewing Company) and pastries will be provided for the seminar. \nDetails:\nDate: Saturday\, January 29\, 2022 at 10:00am\nLocation: Olentangy River Brewing Company – 303 Green Meadows Dr S\, Lewis Center\, OH 43035 \n\n\n  \n\n\n\nYes\, I'd like to RSVP for the Home Buying Seminar on October 19:\n \n Name:\n \n \nEmail:\n\n \nPhone:\n\n \nNumber Attending (guests are welcome):\n12345\n \nPotential Homeownership Questions:\n\n \n\n Δ
URL:https://valequityrealestate.com/event/home-buying-seminar-1-29-22/
LOCATION:Olentangy River Brewing Company\, 303 Green Meadows Drive S\, Lewis Center\, OH\, 43035\, United States
CATEGORIES:Home Buying Seminars
ATTACH;FMTTYPE=image/jpeg:https://valequityrealestate.com/wp-content/uploads/2021/12/FB-valequity-seminar.jpg
END:VEVENT
END:VCALENDAR