BEGIN:VCALENDAR
VERSION:2.0
PRODID:-//ValEquity Real Estate - ECPv6.15.20//NONSGML v1.0//EN
CALSCALE:GREGORIAN
METHOD:PUBLISH
X-WR-CALNAME:ValEquity Real Estate
X-ORIGINAL-URL:https://valequityrealestate.com
X-WR-CALDESC:Events for ValEquity Real Estate
REFRESH-INTERVAL;VALUE=DURATION:PT1H
X-Robots-Tag:noindex
X-PUBLISHED-TTL:PT1H
BEGIN:VTIMEZONE
TZID:America/Detroit
BEGIN:DAYLIGHT
TZOFFSETFROM:-0500
TZOFFSETTO:-0400
TZNAME:EDT
DTSTART:20250309T070000
END:DAYLIGHT
BEGIN:STANDARD
TZOFFSETFROM:-0400
TZOFFSETTO:-0500
TZNAME:EST
DTSTART:20251102T060000
END:STANDARD
BEGIN:DAYLIGHT
TZOFFSETFROM:-0500
TZOFFSETTO:-0400
TZNAME:EDT
DTSTART:20260308T070000
END:DAYLIGHT
BEGIN:STANDARD
TZOFFSETFROM:-0400
TZOFFSETTO:-0500
TZNAME:EST
DTSTART:20261101T060000
END:STANDARD
BEGIN:DAYLIGHT
TZOFFSETFROM:-0500
TZOFFSETTO:-0400
TZNAME:EDT
DTSTART:20270314T070000
END:DAYLIGHT
BEGIN:STANDARD
TZOFFSETFROM:-0400
TZOFFSETTO:-0500
TZNAME:EST
DTSTART:20271107T060000
END:STANDARD
END:VTIMEZONE
BEGIN:VEVENT
DTSTART;TZID=America/Detroit:20261215T100000
DTEND;TZID=America/Detroit:20261215T130000
DTSTAMP:20260425T105509
CREATED:20260114T153935Z
LAST-MODIFIED:20260114T154035Z
UID:12027-1797328800-1797339600@valequityrealestate.com
SUMMARY:Ronald McDonald House Volunteer Day
DESCRIPTION:We’d like to invite you and your family to help us serve lunch at the Ronald McDonald House (711 E Livingston Ave\, Columbus\, OH 43205) on Tuesday\, December 15 from 10:00am – 1:00pm. Sign-up at the bottom of this page so we can make sure we have an accurate headcount! \nRonald McDonald House Charities of Central Ohio\nLocation = 711 E Livingston Ave\, Columbus\, OH 43205\nTime = Arrival time for volunteers is 10:00am\nClick here to view the Parking Map \n \nWe’re looking forward to serving individuals and families that rely on the Ronald McDonald House! Here are the details for that day: \nTeam Cuisine Lunch groups should arrive around 9:45am. Because we are secured building\, we ask that all volunteers check in at the front desk where you will be directed to Volunteer Headquarters while the rest of your team arrives. The Chef will get the group from HQ and take you to the kitchen at 10:00am to begin prepping and cooking. Once everything is ready (about 11:30am) your group will serve our families until about 12-12:30pm. You won’t need to bring anything with you for the meal\, just come ready to get cooking! Our chef will have a menu planned and ingredients/stations set up for your team. \nWe’ll also need each member of the group to complete a waiver of liability\, you can do that electronically beforehand or when you arrive: http://rmhc-centralohio.org/volunteer-waiver/. \nThe ideal dress code for meal preparation/serving includes: \n– Any hair past the shoulder\, pulled back into a pony tail\n– Closed-toed shoes\n– Long pants\n– Short sleeves or longer \nMeal groups are limited to 15 people   \nOnly group members over the age of 14. If there are minors\, an appropriate amount of adults needs to accompany them and be included in the count (15). \nThank you so much to any and all volunteers that are willing to lend a hand – we look forward to sharing this experience with you! \n \nSign-up:\n\n\n  \n\n\n\n Name:\n \n \nSelect how many adults and children (ages 14+) will be attending this event:\n \nAdults: 0123456\nChildren (Age 14 and Older): 0123456\n \nSpecial Instructions:\n\n \n\n Δ
URL:https://valequityrealestate.com/event/ronald-mcdonald-12-15-26/
LOCATION:Ronald McDonald House Charities of Central Ohio\, 711 E Livingston Ave\, Columbus\, OH\, 43205\, United States
CATEGORIES:Volunteer Opportunity
ATTACH;FMTTYPE=image/jpeg:https://valequityrealestate.com/wp-content/uploads/2019/03/rmhc.jpg
END:VEVENT
END:VCALENDAR