BEGIN:VCALENDAR
VERSION:2.0
PRODID:-//ValEquity Real Estate - ECPv6.15.20//NONSGML v1.0//EN
CALSCALE:GREGORIAN
METHOD:PUBLISH
X-ORIGINAL-URL:https://valequityrealestate.com
X-WR-CALDESC:Events for ValEquity Real Estate
REFRESH-INTERVAL;VALUE=DURATION:PT1H
X-Robots-Tag:noindex
X-PUBLISHED-TTL:PT1H
BEGIN:VTIMEZONE
TZID:America/Detroit
BEGIN:DAYLIGHT
TZOFFSETFROM:-0500
TZOFFSETTO:-0400
TZNAME:EDT
DTSTART:20230312T070000
END:DAYLIGHT
BEGIN:STANDARD
TZOFFSETFROM:-0400
TZOFFSETTO:-0500
TZNAME:EST
DTSTART:20231105T060000
END:STANDARD
BEGIN:DAYLIGHT
TZOFFSETFROM:-0500
TZOFFSETTO:-0400
TZNAME:EDT
DTSTART:20240310T070000
END:DAYLIGHT
BEGIN:STANDARD
TZOFFSETFROM:-0400
TZOFFSETTO:-0500
TZNAME:EST
DTSTART:20241103T060000
END:STANDARD
BEGIN:DAYLIGHT
TZOFFSETFROM:-0500
TZOFFSETTO:-0400
TZNAME:EDT
DTSTART:20250309T070000
END:DAYLIGHT
BEGIN:STANDARD
TZOFFSETFROM:-0400
TZOFFSETTO:-0500
TZNAME:EST
DTSTART:20251102T060000
END:STANDARD
END:VTIMEZONE
BEGIN:VEVENT
DTSTART;TZID=America/Detroit:20241015T100000
DTEND;TZID=America/Detroit:20241015T130000
DTSTAMP:20260425T114948
CREATED:20240108T162233Z
LAST-MODIFIED:20240108T162322Z
UID:11466-1728986400-1728997200@valequityrealestate.com
SUMMARY:Ronald McDonald House Volunteer Day
DESCRIPTION:We’d like to invite you and your family to help us serve lunch at the Ronald McDonald House (711 E Livingston Ave\, Columbus\, OH 43205) on Tuesday\, October 15 from 10:00am – 1:00pm! \n  \nRonald McDonald House Charities of Central Ohio\nLocation = 711 E Livingston Ave\, Columbus\, OH 43205\nTime = Arrival time for volunteers is 10:00am\nClick here to view the Parking Map \n \nWe’re looking forward to serving individuals and families that rely on the Ronald McDonald House! Here are the details for that day: \nPlease arrive by 10:00am. Everyone will sign in on an iPad at the front desk. Anyone that arrives before 10:00am is welcome to have a seat in the living room which will be behind you. Once at least half of our group has arrived and/or it is the arrival time we will head into the kitchen and the chef will be ready for us! \nThank you so much to any and all volunteers that are willing to lend a hand – we look forward to sharing this experience with you! \n \nDue to current restrictions\, please be prepared for the following: \n• Upon entering the building all meal group members should immediately sanitize their hands. RMHC has hand sanitizer at the front desk.\n• Anyone who has recently experienced COVID-19 symptoms\, been diagnosed with COVID-19\, traveled to an area where COVID-19 cases are increasing within the last 14 days\, or been around someone with a confirmed COVID-19 diagnosis should not enter the RMHC facility.\n• Meal groups are limited to six people per group. We cannot make exceptions. Everyone must be 18 years or older.\n• All meal group members should maintain a 6-foot distance from one another whenever possible.
URL:https://valequityrealestate.com/event/ronald-mcdonald-10-15-24/
LOCATION:Ronald McDonald House Charities of Central Ohio\, 711 E Livingston Ave\, Columbus\, OH\, 43205\, United States
CATEGORIES:Volunteer Opportunity
ATTACH;FMTTYPE=image/jpeg:https://valequityrealestate.com/wp-content/uploads/2019/03/rmhc.jpg
END:VEVENT
BEGIN:VEVENT
DTSTART;TZID=America/Detroit:20241019T100000
DTEND;TZID=America/Detroit:20241019T110000
DTSTAMP:20260425T114948
CREATED:20240916T173916Z
LAST-MODIFIED:20241017T154529Z
UID:11814-1729332000-1729335600@valequityrealestate.com
SUMMARY:Homebuyer Seminar - October 19\, 2024
DESCRIPTION:Join ValEquity Real Estate Realtors® Amber Abner and Jennifer Valentine at our office for a free Homebuyer Seminar on October 19 starting at 10am. Information will include the steps to homeownership\, how to obtain a mortgage\, available financing programs & more. Down payment assistance is available!  \n \nDetails:\nDate: Saturday\, October 19 at 10:00am\nLocation: ValEquity Real Estate | 5841 Emporium Square\, Columbus\, OH 43231 \n\n\n  \n\n\n\nYes\, I'd like to RSVP for the Home Buying Seminar on October 19:\n \n Name:\n \n \nEmail:\n\n \nPhone:\n\n \nNumber Attending (guests are welcome):\n12345\n \nPotential Homeownership Questions:\n\n \n\n Δ
URL:https://valequityrealestate.com/event/homebuyer-seminar-10-19-24/
LOCATION:ValEquity’s Office\, 5841 Emporium Square\, Columbus\, OH\, 43231\, United States
CATEGORIES:Home Buying Seminars
ATTACH;FMTTYPE=image/png:https://valequityrealestate.com/wp-content/uploads/2024/09/VERE-Homebuyer-Seminar-October-19.png
END:VEVENT
END:VCALENDAR