BEGIN:VCALENDAR
VERSION:2.0
PRODID:-//ValEquity Real Estate - ECPv6.15.20//NONSGML v1.0//EN
CALSCALE:GREGORIAN
METHOD:PUBLISH
X-WR-CALNAME:ValEquity Real Estate
X-ORIGINAL-URL:https://valequityrealestate.com
X-WR-CALDESC:Events for ValEquity Real Estate
REFRESH-INTERVAL;VALUE=DURATION:PT1H
X-Robots-Tag:noindex
X-PUBLISHED-TTL:PT1H
BEGIN:VTIMEZONE
TZID:America/Detroit
BEGIN:DAYLIGHT
TZOFFSETFROM:-0500
TZOFFSETTO:-0400
TZNAME:EDT
DTSTART:20250309T070000
END:DAYLIGHT
BEGIN:STANDARD
TZOFFSETFROM:-0400
TZOFFSETTO:-0500
TZNAME:EST
DTSTART:20251102T060000
END:STANDARD
BEGIN:DAYLIGHT
TZOFFSETFROM:-0500
TZOFFSETTO:-0400
TZNAME:EDT
DTSTART:20260308T070000
END:DAYLIGHT
BEGIN:STANDARD
TZOFFSETFROM:-0400
TZOFFSETTO:-0500
TZNAME:EST
DTSTART:20261101T060000
END:STANDARD
BEGIN:DAYLIGHT
TZOFFSETFROM:-0500
TZOFFSETTO:-0400
TZNAME:EDT
DTSTART:20270314T070000
END:DAYLIGHT
BEGIN:STANDARD
TZOFFSETFROM:-0400
TZOFFSETTO:-0500
TZNAME:EST
DTSTART:20271107T060000
END:STANDARD
END:VTIMEZONE
BEGIN:VEVENT
DTSTART;TZID=America/Detroit:20260221T170000
DTEND;TZID=America/Detroit:20260221T190000
DTSTAMP:20260424T110305
CREATED:20251203T191245Z
LAST-MODIFIED:20260107T004642Z
UID:12000-1771693200-1771700400@valequityrealestate.com
SUMMARY:Client Appreciation Night (Private Open Skate) - February 21\, 2026
DESCRIPTION:Come join ValEquity at OhioHealth Chiller Easton on Saturday\, February 21 from 5:00-7:00pm for a fun Private Open Skate event! \nUse this link to register: https://eventbrite.com/valequity-skating-client-appreciation \nWe are looking forward to seeing everyone on (and off) the ice! Pizza and drinks will be available starting at 5:00pm. Skating will start at 5:00 and run until 7:00pm.  \nPlease remember to bring comfortable and warm clothing including jackets\, hats and gloves. Feel free to bring your own skates if you have them. Skate rentals will be available and are being provided free of charge. \n\nIf the event fills up please email hcotterman@valequity.com to be put on the waitlist. \n\nDetails:\nOhioHealth Chiller Easton\nLocation = 3600 Chiller Ln\, Columbus\, OH 43219\nSkate Duration = 5:00pm – 7:00pm\nPizza and Drinks Will Be Available starting at 5:00pm
URL:https://valequityrealestate.com/event/chiller-skate-2-21-26/
LOCATION:The Chiller at Easton\, 3600 Chiller Lane\, Columbus\, OH\, 43219\, United States
CATEGORIES:Appreciation Event
ATTACH;FMTTYPE=image/png:https://valequityrealestate.com/wp-content/uploads/2025/12/Chiller.png
END:VEVENT
END:VCALENDAR